BEGIN:VCALENDAR
VERSION:2.0
PRODID:-//Carriage Factory Art Gallery - ECPv6.15.20//NONSGML v1.0//EN
CALSCALE:GREGORIAN
METHOD:PUBLISH
X-WR-CALNAME:Carriage Factory Art Gallery
X-ORIGINAL-URL:https://carriagefactoryartgallery.com
X-WR-CALDESC:Events for Carriage Factory Art Gallery
REFRESH-INTERVAL;VALUE=DURATION:PT1H
X-Robots-Tag:noindex
X-PUBLISHED-TTL:PT1H
BEGIN:VTIMEZONE
TZID:America/Chicago
BEGIN:DAYLIGHT
TZOFFSETFROM:-0600
TZOFFSETTO:-0500
TZNAME:CDT
DTSTART:20200308T080000
END:DAYLIGHT
BEGIN:STANDARD
TZOFFSETFROM:-0500
TZOFFSETTO:-0600
TZNAME:CST
DTSTART:20201101T070000
END:STANDARD
BEGIN:DAYLIGHT
TZOFFSETFROM:-0600
TZOFFSETTO:-0500
TZNAME:CDT
DTSTART:20210314T080000
END:DAYLIGHT
BEGIN:STANDARD
TZOFFSETFROM:-0500
TZOFFSETTO:-0600
TZNAME:CST
DTSTART:20211107T070000
END:STANDARD
BEGIN:DAYLIGHT
TZOFFSETFROM:-0600
TZOFFSETTO:-0500
TZNAME:CDT
DTSTART:20220313T080000
END:DAYLIGHT
BEGIN:STANDARD
TZOFFSETFROM:-0500
TZOFFSETTO:-0600
TZNAME:CST
DTSTART:20221106T070000
END:STANDARD
END:VTIMEZONE
BEGIN:VEVENT
DTSTART;TZID=America/Chicago:20210626T130000
DTEND;TZID=America/Chicago:20210626T183000
DTSTAMP:20260421T004114
CREATED:20210506T175639Z
LAST-MODIFIED:20210622T203347Z
UID:4321-1624712400-1624732200@carriagefactoryartgallery.com
SUMMARY:Studio Art Tour 2021
DESCRIPTION:The Carriage Factory Art Gallery will host the 2021 Studio Art Tour on June 26\, 2021. The studio tours are from 1 -5 p.m. followed by a picnic in Kriehbel Park next to the gallery from 5-6:30 p.m. After June 19\, 2021\, please call the gallery to purchase tickets. 316-284-2749 \nThe tour includes six art studios in the Newton Area: \nJuris Krievins and Andy Brown – Newton \nAaron Jackson Bowman – Newton \nBeth Vannatta at Springdale Art and Nature Center – near Halstead \nAnn Zerger – rural Moundridge \nKathy Waltner – rural Moundridge \nCarol Zerger – rural Moundridge \n 
URL:https://carriagefactoryartgallery.com/event/studio-art-tour-2021/
LOCATION:Carriage Factory Art Gallery\, 128 E. 6th Street\, Newton\, KS\, 67114\, United States
CATEGORIES:Fundraiser
ATTACH;FMTTYPE=image/jpeg:https://carriagefactoryartgallery.com/wp-content/uploads/2021/05/CFG-Art-Tour-1.jpg
ORGANIZER;CN="Carriage Factory Art Gallery":MAILTO:director@carriagefactoryartgallery.com
END:VEVENT
END:VCALENDAR