BEGIN:VCALENDAR
VERSION:2.0
PRODID:-//Carriage Factory Art Gallery - ECPv6.15.20//NONSGML v1.0//EN
CALSCALE:GREGORIAN
METHOD:PUBLISH
X-WR-CALNAME:Carriage Factory Art Gallery
X-ORIGINAL-URL:https://carriagefactoryartgallery.com
X-WR-CALDESC:Events for Carriage Factory Art Gallery
REFRESH-INTERVAL;VALUE=DURATION:PT1H
X-Robots-Tag:noindex
X-PUBLISHED-TTL:PT1H
BEGIN:VTIMEZONE
TZID:America/Chicago
BEGIN:DAYLIGHT
TZOFFSETFROM:-0600
TZOFFSETTO:-0500
TZNAME:CDT
DTSTART:20180311T080000
END:DAYLIGHT
BEGIN:STANDARD
TZOFFSETFROM:-0500
TZOFFSETTO:-0600
TZNAME:CST
DTSTART:20181104T070000
END:STANDARD
BEGIN:DAYLIGHT
TZOFFSETFROM:-0600
TZOFFSETTO:-0500
TZNAME:CDT
DTSTART:20190310T080000
END:DAYLIGHT
BEGIN:STANDARD
TZOFFSETFROM:-0500
TZOFFSETTO:-0600
TZNAME:CST
DTSTART:20191103T070000
END:STANDARD
BEGIN:DAYLIGHT
TZOFFSETFROM:-0600
TZOFFSETTO:-0500
TZNAME:CDT
DTSTART:20200308T080000
END:DAYLIGHT
BEGIN:STANDARD
TZOFFSETFROM:-0500
TZOFFSETTO:-0600
TZNAME:CST
DTSTART:20201101T070000
END:STANDARD
END:VTIMEZONE
BEGIN:VEVENT
DTSTART;VALUE=DATE:20190101
DTEND;VALUE=DATE:20200101
DTSTAMP:20260423T052626
CREATED:20190202T173602Z
LAST-MODIFIED:20190502T170914Z
UID:2829-1546300800-1577836799@carriagefactoryartgallery.com
SUMMARY:Vernon Rickman Book
DESCRIPTION:  \nThe life and work of Newton-born artist Vernon Rickman is highlighted in “Vernon Rickman\, An Artful Life\,“ a book by Beverley Olson Buller. \nCarriage Factory Art Gallery published the book\, which was released in mid-February 2019. \nRickman was born in Newton in 1929\, the second son of Theodore J. and Mattie Jordan Rickman. While attending Newton High School\, art teacher Marie Orr encouraged and mentored him. After his high school graduation\, he studied art in Kansas City\, Missouri\, and Cleveland\, Ohio\, before serving in the Korean War. He later graduated from the University of Kansas with a bachelor’s degree in fine arts. \nRickman went on to join the Smithsonian and spent 20 years as a sculptor and artist there\, creating many of the exhibits for the Museum of Natural History. His work depicted humans during different eras of history and geography. He retired from the Smithsonian in the 1980s. \nAfter retirement\, Rickman continued painting and sculpting\, creating more than 300 oil paintings as well as sculptures and reliefs. Much of his work expresses the depth of suffering and human bondage. Longing and sorrow\, isolation and darkness\, the journey inward and outward are central themes of his art. \nRickman died in Newton on Dec. 27\, 2013. Carriage Factory Art Gallery is the sole sales broker for his paintings. \nThe Carriage Factory Art Gallery is open from noon to 5 p.m. Tuesday through Friday\, and 10 a.m. to 5 p.m. Saturday. For more information\, call 316-284-2749 or visit www.carriagefactoryartgallery.com.
URL:https://carriagefactoryartgallery.com/event/third-thursday-author-signing/
LOCATION:Carriage Factory Art Gallery\, 128 E. 6th Street\, Newton\, KS\, 67114\, United States
ATTACH;FMTTYPE=image/jpeg:https://carriagefactoryartgallery.com/wp-content/uploads/2019/02/RICKMAN-COUNTER-DISPLAY-scaled.jpg
END:VEVENT
BEGIN:VEVENT
DTSTART;TZID=America/Chicago:20191207T100000
DTEND;TZID=America/Chicago:20191207T160000
DTSTAMP:20260423T052626
CREATED:20191204T215955Z
LAST-MODIFIED:20191204T215955Z
UID:3155-1575712800-1575734400@carriagefactoryartgallery.com
SUMMARY:The Five Places of Christmas
DESCRIPTION:Newton-area museums welcome the public to “Five Places of Christmas” from 10 a.m. to 4 p.m. on Saturday\, Dec. 7. The annual holiday open house is a collaborative event among Carriage Factory Art Gallery\, Harvey County Historical Museum\, Kauffman Museum\, Warkentin House and Bethel College Women’s Association. Admission is free for all of the venues\, with most offering free refreshments and activities. \nFive places locations are:\nBethel College Women’s Association\, Luyken Fine Arts Center on the Bethel College Campus\, 27th and Main streets\, North Newton. The group’s theme for 2018 is “Christmas at the Stables\,” and they will feature lots of homemade candies\, cookies\, cinnamon rolls\, peppernuts and other baked goods\, and handcrafted items such as purses\, jewelry\, crochet\, and other Christmas gifts. Free coffee will be served\, and a make-and-take activity for all ages is also planned. \nVisitors to Kauffman Museum\, located at 27th and Main streets in North Newton\, can enjoy the museum and refreshments as well as the exhibit “K is for Kansas” and a Kansas-themed make-and-take activity. \nCarriage Factory Gallery\, 128 E. Sixth St. in Newton\, will feature music and refreshments and a make-and-take activity. Art and other items will be for sale throughout the gallery. \nThe Harvey County Historical Museum\, 203 N. Main St. in Newton\, invites visitors to enjoy ’80s-themed decorations and the current “Back to the 80s” exhibit. Refreshments will be served. At the Harvey County Historical Museum & Archives we will host the Sunflower Woodworker’s Guild with make-it and take-it crafts (while supplies last). \nThe Warkentin House Museum\, 211 E. First St. in Newton\, offers peppernuts and Mrs. Warkentin’s Russian tea while visitors can explore the Victorian home decorated to its holiday finest by local volunteers. Children and youth from the Home School Association of Newton and friends will share their vocal and instrumental talents throughout the day while visitors enjoy tours of this historic landmark. \nCommemorative ornaments will be offered for the first 100 people or families to visit all five places. Each attraction will have 20 ornaments to be given to the individuals or family to present a card stamped by all participating locations. One ornament per family\, please. The ornaments are made of local wood by Alvin Peters of North Newton. \nAll “Five Places of Christmas” sites are open from 10 a.m. until 4 p.m. on Dec. 7 and offer free admission\, refreshments and activities to share the holidays with the community. If you have questions\, please contact Melody Spurney at the Newton Convention & Visitors Bureau at (316) 284-3642 or mspurney@newtonkansas.com or any of the “Five Places” venues. \nFor more information\, go to http://ToNewton.com/Christmas.html
URL:https://carriagefactoryartgallery.com/event/the-five-places-of-christmas/
LOCATION:Carriage Factory Art Gallery\, 128 E. 6th Street\, Newton\, KS\, 67114\, United States
ORGANIZER;CN="Carriage Factory Art Gallery":MAILTO:director@carriagefactoryartgallery.com
END:VEVENT
BEGIN:VEVENT
DTSTART;TZID=America/Chicago:20191214T100000
DTEND;TZID=America/Chicago:20191214T120000
DTSTAMP:20260423T052626
CREATED:20191116T175254Z
LAST-MODIFIED:20200903T194136Z
UID:3143-1576317600-1576324800@carriagefactoryartgallery.com
SUMMARY:Christmas Pysanky Class
DESCRIPTION:Christmas Pysanky Class with Instructor E.B. Schmidt \n 
URL:https://carriagefactoryartgallery.com/event/christmas-pysanky-class/
LOCATION:Carriage Factory Art Gallery\, 128 E. 6th Street\, Newton\, KS\, 67114\, United States
ORGANIZER;CN="Carriage Factory Art Gallery":MAILTO:director@carriagefactoryartgallery.com
END:VEVENT
BEGIN:VEVENT
DTSTART;TZID=America/Chicago:20191214T140000
DTEND;TZID=America/Chicago:20191214T160000
DTSTAMP:20260423T052626
CREATED:20191113T224843Z
LAST-MODIFIED:20200903T194045Z
UID:3134-1576332000-1576339200@carriagefactoryartgallery.com
SUMMARY:Fused Glass Ornaments with Linda Fern Johnson
DESCRIPTION:Learn to make fused glass ornaments with Linda Fern Johnson. Birds\, stockings and trees! Learn to make three different ornaments to hang on your tree. \nFee: $45\, includes all materials \nTime 2:00 p.m. Saturday\, Dec. 14\, 2019 \n 
URL:https://carriagefactoryartgallery.com/event/fused-glass-ornaments-with-linda-fern-johnson/
LOCATION:Carriage Factory Art Gallery\, 128 E. 6th Street\, Newton\, KS\, 67114\, United States
ORGANIZER;CN="Carriage Factory Art Gallery":MAILTO:director@carriagefactoryartgallery.com
END:VEVENT
END:VCALENDAR