BEGIN:VCALENDAR
VERSION:2.0
PRODID:-//Carriage Factory Art Gallery - ECPv6.15.20//NONSGML v1.0//EN
CALSCALE:GREGORIAN
METHOD:PUBLISH
X-WR-CALNAME:Carriage Factory Art Gallery
X-ORIGINAL-URL:https://carriagefactoryartgallery.com
X-WR-CALDESC:Events for Carriage Factory Art Gallery
REFRESH-INTERVAL;VALUE=DURATION:PT1H
X-Robots-Tag:noindex
X-PUBLISHED-TTL:PT1H
BEGIN:VTIMEZONE
TZID:America/Chicago
BEGIN:DAYLIGHT
TZOFFSETFROM:-0600
TZOFFSETTO:-0500
TZNAME:CDT
DTSTART:20180311T080000
END:DAYLIGHT
BEGIN:STANDARD
TZOFFSETFROM:-0500
TZOFFSETTO:-0600
TZNAME:CST
DTSTART:20181104T070000
END:STANDARD
BEGIN:DAYLIGHT
TZOFFSETFROM:-0600
TZOFFSETTO:-0500
TZNAME:CDT
DTSTART:20190310T080000
END:DAYLIGHT
BEGIN:STANDARD
TZOFFSETFROM:-0500
TZOFFSETTO:-0600
TZNAME:CST
DTSTART:20191103T070000
END:STANDARD
BEGIN:DAYLIGHT
TZOFFSETFROM:-0600
TZOFFSETTO:-0500
TZNAME:CDT
DTSTART:20200308T080000
END:DAYLIGHT
BEGIN:STANDARD
TZOFFSETFROM:-0500
TZOFFSETTO:-0600
TZNAME:CST
DTSTART:20201101T070000
END:STANDARD
END:VTIMEZONE
BEGIN:VEVENT
DTSTART;VALUE=DATE:20190101
DTEND;VALUE=DATE:20200101
DTSTAMP:20260423T000219
CREATED:20190202T173602Z
LAST-MODIFIED:20190502T170914Z
UID:2829-1546300800-1577836799@carriagefactoryartgallery.com
SUMMARY:Vernon Rickman Book
DESCRIPTION:  \nThe life and work of Newton-born artist Vernon Rickman is highlighted in “Vernon Rickman\, An Artful Life\,“ a book by Beverley Olson Buller. \nCarriage Factory Art Gallery published the book\, which was released in mid-February 2019. \nRickman was born in Newton in 1929\, the second son of Theodore J. and Mattie Jordan Rickman. While attending Newton High School\, art teacher Marie Orr encouraged and mentored him. After his high school graduation\, he studied art in Kansas City\, Missouri\, and Cleveland\, Ohio\, before serving in the Korean War. He later graduated from the University of Kansas with a bachelor’s degree in fine arts. \nRickman went on to join the Smithsonian and spent 20 years as a sculptor and artist there\, creating many of the exhibits for the Museum of Natural History. His work depicted humans during different eras of history and geography. He retired from the Smithsonian in the 1980s. \nAfter retirement\, Rickman continued painting and sculpting\, creating more than 300 oil paintings as well as sculptures and reliefs. Much of his work expresses the depth of suffering and human bondage. Longing and sorrow\, isolation and darkness\, the journey inward and outward are central themes of his art. \nRickman died in Newton on Dec. 27\, 2013. Carriage Factory Art Gallery is the sole sales broker for his paintings. \nThe Carriage Factory Art Gallery is open from noon to 5 p.m. Tuesday through Friday\, and 10 a.m. to 5 p.m. Saturday. For more information\, call 316-284-2749 or visit www.carriagefactoryartgallery.com.
URL:https://carriagefactoryartgallery.com/event/third-thursday-author-signing/
LOCATION:Carriage Factory Art Gallery\, 128 E. 6th Street\, Newton\, KS\, 67114\, United States
ATTACH;FMTTYPE=image/jpeg:https://carriagefactoryartgallery.com/wp-content/uploads/2019/02/RICKMAN-COUNTER-DISPLAY-scaled.jpg
END:VEVENT
BEGIN:VEVENT
DTSTART;TZID=America/Chicago:20190907T090000
DTEND;TZID=America/Chicago:20190907T120000
DTSTAMP:20260423T000219
CREATED:20190713T195149Z
LAST-MODIFIED:20200903T194938Z
UID:3036-1567846800-1567857600@carriagefactoryartgallery.com
SUMMARY:Artist Book class with Rachel Epp
DESCRIPTION:Time Traveling with Artist Books\nSaturday\, September 7\, 9am-noon.\nStudents in this class with travel through time by writing and creating artist book forms that address past\, present\, and future contexts. To prepare for the class\, participants will bring with them 3 short texts (poems\, letters\, fragmentary thoughts) that they have written down\, addressed to their younger self\, to their current self\, and to their future self. In the class\, we will work with images and text to translate ideas into three artist books\, using an accordion fold\, a flower fold\, and then a combination of techniques.\n \nSupplies will be provided\, but students are also invited to bring their own papers\, stamps\, photographs\, or ephemera that they might wish to incorporate. Cost is $75 per person.
URL:https://carriagefactoryartgallery.com/event/artist-book-class-with-rachel-epp-buller/
LOCATION:Carriage Factory Art Gallery\, 128 E. 6th Street\, Newton\, KS\, 67114\, United States
ATTACH;FMTTYPE=image/jpeg:https://carriagefactoryartgallery.com/wp-content/uploads/2019/07/Buller-class.jpg
END:VEVENT
BEGIN:VEVENT
DTSTART;TZID=America/Chicago:20190914T090000
DTEND;TZID=America/Chicago:20190914T120000
DTSTAMP:20260423T000219
CREATED:20190627T221144Z
LAST-MODIFIED:20200903T194831Z
UID:3024-1568451600-1568462400@carriagefactoryartgallery.com
SUMMARY:Fingerpaint Flowers Class with Kayann
DESCRIPTION:Get into art with a class on painting drippy flowers with fingerpaint taught by Kayann Ausherman from 9am-noon Sept. 14. RSVP by Sept. 7. $45 per student; all supplies included.
URL:https://carriagefactoryartgallery.com/event/fingerpaint-flowers-class-with-kayann-ausherman/
LOCATION:Carriage Factory Art Gallery\, 128 E. 6th Street\, Newton\, KS\, 67114\, United States
ATTACH;FMTTYPE=image/jpeg:https://carriagefactoryartgallery.com/wp-content/uploads/2019/06/kayann-class-1.jpg
END:VEVENT
BEGIN:VEVENT
DTSTART;TZID=America/Chicago:20190914T130000
DTEND;TZID=America/Chicago:20190914T160000
DTSTAMP:20260423T000219
CREATED:20190627T221621Z
LAST-MODIFIED:20190801T191912Z
UID:3028-1568466000-1568476800@carriagefactoryartgallery.com
SUMMARY:Citra Solv Collage Class with Kayann Ausherman - SOLD OUT
DESCRIPTION:Put pieces together to create something new in a class taught by Kayann Ausherman from 1-4pm Sept. 14. RSVP by Sept. 7. $40 per student; all supplies included.
URL:https://carriagefactoryartgallery.com/event/citra-solv-collage-class-with-kayann-ausherman/
LOCATION:Carriage Factory Art Gallery\, 128 E. 6th Street\, Newton\, KS\, 67114\, United States
ATTACH;FMTTYPE=image/jpeg:https://carriagefactoryartgallery.com/wp-content/uploads/2019/06/kayann-class-2.jpg
END:VEVENT
BEGIN:VEVENT
DTSTART;TZID=America/Chicago:20190919T180000
DTEND;TZID=America/Chicago:20190919T200000
DTSTAMP:20260423T000219
CREATED:20190720T184350Z
LAST-MODIFIED:20190808T190645Z
UID:3042-1568916000-1568923200@carriagefactoryartgallery.com
SUMMARY:September Third Thursday
DESCRIPTION:The gallery will be open from 6 to 8 p.m. to let the public celebrate the opening of a new exhibit of Marilyn Friesen’s photographs. \nLive music will be performed by Dave Anderson. \nChef Joe Gilliam will cook hot dogs and chips with thermonuclear nacho cheese\, served by donation.
URL:https://carriagefactoryartgallery.com/event/september-third-thursday/
LOCATION:Carriage Factory Art Gallery\, 128 E. 6th Street\, Newton\, KS\, 67114\, United States
ATTACH;FMTTYPE=image/jpeg:https://carriagefactoryartgallery.com/wp-content/uploads/2019/07/Sept-third-thurs.jpg
END:VEVENT
BEGIN:VEVENT
DTSTART;TZID=America/Chicago:20190928T190000
DTEND;TZID=America/Chicago:20190928T210000
DTSTAMP:20260423T000219
CREATED:20190817T213527Z
LAST-MODIFIED:20190817T220136Z
UID:3070-1569697200-1569704400@carriagefactoryartgallery.com
SUMMARY:Opening reception for "Form of Five"
DESCRIPTION:Join us from 7 to 9 p.m. Sept. 28 to view the works of Andy Brown\, Wendell Donaldson\, Don Fullmer\, Curtis Haynes and Bob Neace.
URL:https://carriagefactoryartgallery.com/event/opening-for-form-of-five/
LOCATION:Carriage Factory Art Gallery\, 128 E. 6th Street\, Newton\, KS\, 67114\, United States
ATTACH;FMTTYPE=image/jpeg:https://carriagefactoryartgallery.com/wp-content/uploads/2019/08/CFAG-Sept-POSTER-8-2019-scaled.jpg
END:VEVENT
END:VCALENDAR