BEGIN:VCALENDAR
VERSION:2.0
PRODID:-//Carriage Factory Art Gallery - ECPv6.15.20//NONSGML v1.0//EN
CALSCALE:GREGORIAN
METHOD:PUBLISH
X-WR-CALNAME:Carriage Factory Art Gallery
X-ORIGINAL-URL:https://carriagefactoryartgallery.com
X-WR-CALDESC:Events for Carriage Factory Art Gallery
REFRESH-INTERVAL;VALUE=DURATION:PT1H
X-Robots-Tag:noindex
X-PUBLISHED-TTL:PT1H
BEGIN:VTIMEZONE
TZID:America/Chicago
BEGIN:DAYLIGHT
TZOFFSETFROM:-0600
TZOFFSETTO:-0500
TZNAME:CDT
DTSTART:20180311T080000
END:DAYLIGHT
BEGIN:STANDARD
TZOFFSETFROM:-0500
TZOFFSETTO:-0600
TZNAME:CST
DTSTART:20181104T070000
END:STANDARD
BEGIN:DAYLIGHT
TZOFFSETFROM:-0600
TZOFFSETTO:-0500
TZNAME:CDT
DTSTART:20190310T080000
END:DAYLIGHT
BEGIN:STANDARD
TZOFFSETFROM:-0500
TZOFFSETTO:-0600
TZNAME:CST
DTSTART:20191103T070000
END:STANDARD
BEGIN:DAYLIGHT
TZOFFSETFROM:-0600
TZOFFSETTO:-0500
TZNAME:CDT
DTSTART:20200308T080000
END:DAYLIGHT
BEGIN:STANDARD
TZOFFSETFROM:-0500
TZOFFSETTO:-0600
TZNAME:CST
DTSTART:20201101T070000
END:STANDARD
END:VTIMEZONE
BEGIN:VEVENT
DTSTART;VALUE=DATE:20190101
DTEND;VALUE=DATE:20200101
DTSTAMP:20260423T014909
CREATED:20190202T173602Z
LAST-MODIFIED:20190502T170914Z
UID:2829-1546300800-1577836799@carriagefactoryartgallery.com
SUMMARY:Vernon Rickman Book
DESCRIPTION:  \nThe life and work of Newton-born artist Vernon Rickman is highlighted in “Vernon Rickman\, An Artful Life\,“ a book by Beverley Olson Buller. \nCarriage Factory Art Gallery published the book\, which was released in mid-February 2019. \nRickman was born in Newton in 1929\, the second son of Theodore J. and Mattie Jordan Rickman. While attending Newton High School\, art teacher Marie Orr encouraged and mentored him. After his high school graduation\, he studied art in Kansas City\, Missouri\, and Cleveland\, Ohio\, before serving in the Korean War. He later graduated from the University of Kansas with a bachelor’s degree in fine arts. \nRickman went on to join the Smithsonian and spent 20 years as a sculptor and artist there\, creating many of the exhibits for the Museum of Natural History. His work depicted humans during different eras of history and geography. He retired from the Smithsonian in the 1980s. \nAfter retirement\, Rickman continued painting and sculpting\, creating more than 300 oil paintings as well as sculptures and reliefs. Much of his work expresses the depth of suffering and human bondage. Longing and sorrow\, isolation and darkness\, the journey inward and outward are central themes of his art. \nRickman died in Newton on Dec. 27\, 2013. Carriage Factory Art Gallery is the sole sales broker for his paintings. \nThe Carriage Factory Art Gallery is open from noon to 5 p.m. Tuesday through Friday\, and 10 a.m. to 5 p.m. Saturday. For more information\, call 316-284-2749 or visit www.carriagefactoryartgallery.com.
URL:https://carriagefactoryartgallery.com/event/third-thursday-author-signing/
LOCATION:Carriage Factory Art Gallery\, 128 E. 6th Street\, Newton\, KS\, 67114\, United States
ATTACH;FMTTYPE=image/jpeg:https://carriagefactoryartgallery.com/wp-content/uploads/2019/02/RICKMAN-COUNTER-DISPLAY-scaled.jpg
END:VEVENT
BEGIN:VEVENT
DTSTART;TZID=America/Chicago:20190810T180000
DTEND;TZID=America/Chicago:20190810T200000
DTSTAMP:20260423T014909
CREATED:20190615T200706Z
LAST-MODIFIED:20190801T174351Z
UID:3012-1565460000-1565467200@carriagefactoryartgallery.com
SUMMARY:Garden Tea Party
DESCRIPTION:Join us in the park from 6 to 8 p.m. Aug. 10 and bring a labeled perennial to plant! \nDrink flavored iced tea and savor light refreshments! \nChat with Brad Guhr\, Dyck Arboretum Education Coordinator. \nFlowers we would like to add to the garden include irises\, day lilies\, columbine\, coneflowers\, daisies\, coral bells and other prairie plants. Please label all plants with their type and color.
URL:https://carriagefactoryartgallery.com/event/garden-party/
LOCATION:Carriage Factory Art Gallery\, 128 E. 6th Street\, Newton\, KS\, 67114\, United States
ATTACH;FMTTYPE=image/jpeg:https://carriagefactoryartgallery.com/wp-content/uploads/2019/06/Garden-Tea-Party-banner.jpg
END:VEVENT
BEGIN:VEVENT
DTSTART;TZID=America/Chicago:20190815T180000
DTEND;TZID=America/Chicago:20190815T200000
DTSTAMP:20260423T014909
CREATED:20190615T201032Z
LAST-MODIFIED:20190622T165625Z
UID:3014-1565892000-1565899200@carriagefactoryartgallery.com
SUMMARY:Third Thursday
DESCRIPTION:Join us for ice cream floats and the music of the Newton Ukulele Tunes Society!
URL:https://carriagefactoryartgallery.com/event/third-thursday-5/
LOCATION:Carriage Factory Art Gallery\, 128 E. 6th Street\, Newton\, KS\, 67114\, United States
ATTACH;FMTTYPE=image/jpeg:https://carriagefactoryartgallery.com/wp-content/uploads/2019/06/august-third-thursday.jpg
END:VEVENT
BEGIN:VEVENT
DTSTART;TZID=America/Chicago:20190831T100000
DTEND;TZID=America/Chicago:20190831T120000
DTSTAMP:20260423T014909
CREATED:20190727T180649Z
LAST-MODIFIED:20200903T195040Z
UID:3046-1567245600-1567252800@carriagefactoryartgallery.com
SUMMARY:Mandala Painting Class with Mary Lee-McDonald
DESCRIPTION:Learn to paint a mandala pattern on a river rock. $30\, all supplies included. \n10am-12pm\, Aug. 31. RSVP by Aug. 24.
URL:https://carriagefactoryartgallery.com/event/mandala-painting-class-with-mary-lee-mcdonald/
LOCATION:Carriage Factory Art Gallery\, 128 E. 6th Street\, Newton\, KS\, 67114\, United States
ATTACH;FMTTYPE=image/jpeg:https://carriagefactoryartgallery.com/wp-content/uploads/2019/07/Mary-Mandala.jpg
END:VEVENT
END:VCALENDAR