BEGIN:VCALENDAR
VERSION:2.0
PRODID:-//Carriage Factory Art Gallery - ECPv6.15.20//NONSGML v1.0//EN
CALSCALE:GREGORIAN
METHOD:PUBLISH
X-WR-CALNAME:Carriage Factory Art Gallery
X-ORIGINAL-URL:https://carriagefactoryartgallery.com
X-WR-CALDESC:Events for Carriage Factory Art Gallery
REFRESH-INTERVAL;VALUE=DURATION:PT1H
X-Robots-Tag:noindex
X-PUBLISHED-TTL:PT1H
BEGIN:VTIMEZONE
TZID:America/Chicago
BEGIN:DAYLIGHT
TZOFFSETFROM:-0600
TZOFFSETTO:-0500
TZNAME:CDT
DTSTART:20180311T080000
END:DAYLIGHT
BEGIN:STANDARD
TZOFFSETFROM:-0500
TZOFFSETTO:-0600
TZNAME:CST
DTSTART:20181104T070000
END:STANDARD
BEGIN:DAYLIGHT
TZOFFSETFROM:-0600
TZOFFSETTO:-0500
TZNAME:CDT
DTSTART:20190310T080000
END:DAYLIGHT
BEGIN:STANDARD
TZOFFSETFROM:-0500
TZOFFSETTO:-0600
TZNAME:CST
DTSTART:20191103T070000
END:STANDARD
BEGIN:DAYLIGHT
TZOFFSETFROM:-0600
TZOFFSETTO:-0500
TZNAME:CDT
DTSTART:20200308T080000
END:DAYLIGHT
BEGIN:STANDARD
TZOFFSETFROM:-0500
TZOFFSETTO:-0600
TZNAME:CST
DTSTART:20201101T070000
END:STANDARD
END:VTIMEZONE
BEGIN:VEVENT
DTSTART;VALUE=DATE:20190101
DTEND;VALUE=DATE:20200101
DTSTAMP:20260423T052629
CREATED:20190202T173602Z
LAST-MODIFIED:20190502T170914Z
UID:2829-1546300800-1577836799@carriagefactoryartgallery.com
SUMMARY:Vernon Rickman Book
DESCRIPTION:  \nThe life and work of Newton-born artist Vernon Rickman is highlighted in “Vernon Rickman\, An Artful Life\,“ a book by Beverley Olson Buller. \nCarriage Factory Art Gallery published the book\, which was released in mid-February 2019. \nRickman was born in Newton in 1929\, the second son of Theodore J. and Mattie Jordan Rickman. While attending Newton High School\, art teacher Marie Orr encouraged and mentored him. After his high school graduation\, he studied art in Kansas City\, Missouri\, and Cleveland\, Ohio\, before serving in the Korean War. He later graduated from the University of Kansas with a bachelor’s degree in fine arts. \nRickman went on to join the Smithsonian and spent 20 years as a sculptor and artist there\, creating many of the exhibits for the Museum of Natural History. His work depicted humans during different eras of history and geography. He retired from the Smithsonian in the 1980s. \nAfter retirement\, Rickman continued painting and sculpting\, creating more than 300 oil paintings as well as sculptures and reliefs. Much of his work expresses the depth of suffering and human bondage. Longing and sorrow\, isolation and darkness\, the journey inward and outward are central themes of his art. \nRickman died in Newton on Dec. 27\, 2013. Carriage Factory Art Gallery is the sole sales broker for his paintings. \nThe Carriage Factory Art Gallery is open from noon to 5 p.m. Tuesday through Friday\, and 10 a.m. to 5 p.m. Saturday. For more information\, call 316-284-2749 or visit www.carriagefactoryartgallery.com.
URL:https://carriagefactoryartgallery.com/event/third-thursday-author-signing/
LOCATION:Carriage Factory Art Gallery\, 128 E. 6th Street\, Newton\, KS\, 67114\, United States
ATTACH;FMTTYPE=image/jpeg:https://carriagefactoryartgallery.com/wp-content/uploads/2019/02/RICKMAN-COUNTER-DISPLAY-scaled.jpg
END:VEVENT
BEGIN:VEVENT
DTSTART;TZID=America/Chicago:20190620T180000
DTEND;TZID=America/Chicago:20190620T200000
DTSTAMP:20260423T052629
CREATED:20190518T170504Z
LAST-MODIFIED:20190608T205007Z
UID:2960-1561053600-1561060800@carriagefactoryartgallery.com
SUMMARY:Third Thursday
DESCRIPTION:EmberHope Youthville will have a special exhibit on the third floor and the Ericka Stucky Scholarship winner will be announced. Free and open to the public.
URL:https://carriagefactoryartgallery.com/event/third-thursday-3/
LOCATION:Carriage Factory Art Gallery\, 128 E. 6th Street\, Newton\, KS\, 67114\, United States
ATTACH;FMTTYPE=image/jpeg:https://carriagefactoryartgallery.com/wp-content/uploads/2019/05/walk-a-mile.jpg
END:VEVENT
BEGIN:VEVENT
DTSTART;TZID=America/Chicago:20190622T100000
DTEND;TZID=America/Chicago:20190622T120000
DTSTAMP:20260423T052629
CREATED:20190504T205002Z
LAST-MODIFIED:20200903T201547Z
UID:2945-1561197600-1561204800@carriagefactoryartgallery.com
SUMMARY:Fused Glass Class with Linda Fern Johnson
DESCRIPTION:RSVP by June 15 for a fused glass class taught by Linda Fern Johnson.
URL:https://carriagefactoryartgallery.com/event/fused-glass-class-with-linda-fern-johnson/
LOCATION:Carriage Factory Art Gallery\, 128 E. 6th Street\, Newton\, KS\, 67114\, United States
ATTACH;FMTTYPE=image/jpeg:https://carriagefactoryartgallery.com/wp-content/uploads/2019/05/Fused-Glass-Class.jpg
END:VEVENT
BEGIN:VEVENT
DTSTART;TZID=America/Chicago:20190629T110000
DTEND;TZID=America/Chicago:20190629T170000
DTSTAMP:20260423T052629
CREATED:20190518T172816Z
LAST-MODIFIED:20200903T195333Z
UID:2970-1561806000-1561827600@carriagefactoryartgallery.com
SUMMARY:Studio Art Tour
DESCRIPTION:
URL:https://carriagefactoryartgallery.com/event/studio-tour/
LOCATION:Carriage Factory Art Gallery\, 128 E. 6th Street\, Newton\, KS\, 67114\, United States
ATTACH;FMTTYPE=image/jpeg:https://carriagefactoryartgallery.com/wp-content/uploads/2019/05/Studio-Tour-flyer.jpg
END:VEVENT
END:VCALENDAR