BEGIN:VCALENDAR
VERSION:2.0
PRODID:-//Carriage Factory Art Gallery - ECPv6.15.20//NONSGML v1.0//EN
CALSCALE:GREGORIAN
METHOD:PUBLISH
X-ORIGINAL-URL:https://carriagefactoryartgallery.com
X-WR-CALDESC:Events for Carriage Factory Art Gallery
REFRESH-INTERVAL;VALUE=DURATION:PT1H
X-Robots-Tag:noindex
X-PUBLISHED-TTL:PT1H
BEGIN:VTIMEZONE
TZID:America/Chicago
BEGIN:DAYLIGHT
TZOFFSETFROM:-0600
TZOFFSETTO:-0500
TZNAME:CDT
DTSTART:20240310T080000
END:DAYLIGHT
BEGIN:STANDARD
TZOFFSETFROM:-0500
TZOFFSETTO:-0600
TZNAME:CST
DTSTART:20241103T070000
END:STANDARD
BEGIN:DAYLIGHT
TZOFFSETFROM:-0600
TZOFFSETTO:-0500
TZNAME:CDT
DTSTART:20250309T080000
END:DAYLIGHT
BEGIN:STANDARD
TZOFFSETFROM:-0500
TZOFFSETTO:-0600
TZNAME:CST
DTSTART:20251102T070000
END:STANDARD
BEGIN:DAYLIGHT
TZOFFSETFROM:-0600
TZOFFSETTO:-0500
TZNAME:CDT
DTSTART:20260308T080000
END:DAYLIGHT
BEGIN:STANDARD
TZOFFSETFROM:-0500
TZOFFSETTO:-0600
TZNAME:CST
DTSTART:20261101T070000
END:STANDARD
END:VTIMEZONE
BEGIN:VEVENT
DTSTART;TZID=America/Chicago:20250705T100000
DTEND;TZID=America/Chicago:20250705T170000
DTSTAMP:20260421T065638
CREATED:20250625T203927Z
LAST-MODIFIED:20250625T204325Z
UID:6765-1751709600-1751734800@carriagefactoryartgallery.com
SUMMARY:Summer Sale!
DESCRIPTION:Stop by the gallery on Saturday\, June 28 and/or Saturday\, July 5 for our Summer Sale! “Fill a Bag” with various art and craft supplies for $8 per bag. A variety of creative supplies for all ages will be available! 10% off Gallery wide. Two Saturdays only — 10 AM – 5 PM. Watch our event page on Facebook for sneak previews!
URL:https://carriagefactoryartgallery.com/event/summer-sale-2/
LOCATION:Carriage Factory Art Gallery\, 128 E. 6th Street\, Newton\, KS\, 67114\, United States
CATEGORIES:Sale
ATTACH;FMTTYPE=image/jpeg:https://carriagefactoryartgallery.com/wp-content/uploads/2025/06/Green-Illustrative-Summer-Sale-and-Discount-Instagram-Post.jpg
ORGANIZER;CN="Carriage Factory Art Gallery":MAILTO:director@carriagefactoryartgallery.com
END:VEVENT
BEGIN:VEVENT
DTSTART;TZID=America/Chicago:20250628T100000
DTEND;TZID=America/Chicago:20250628T170000
DTSTAMP:20260421T065638
CREATED:20250625T203812Z
LAST-MODIFIED:20250625T203812Z
UID:6762-1751104800-1751130000@carriagefactoryartgallery.com
SUMMARY:Summer Sale!
DESCRIPTION:Stop by the gallery on Saturday\, June 28 and/or Saturday\, July 5 for our Summer Sale! “Fill a Bag” with various art and craft supplies for $8 per bag. A variety of creative supplies for all ages will be available! 10% off Gallery wide. Two Saturdays only — 10 AM – 5 PM. 
URL:https://carriagefactoryartgallery.com/event/summer-sale/
LOCATION:Carriage Factory Art Gallery\, 128 E. 6th Street\, Newton\, KS\, 67114\, United States
CATEGORIES:Sale
ATTACH;FMTTYPE=image/jpeg:https://carriagefactoryartgallery.com/wp-content/uploads/2025/06/Green-Illustrative-Summer-Sale-and-Discount-Instagram-Post.jpg
ORGANIZER;CN="Carriage Factory Art Gallery":MAILTO:director@carriagefactoryartgallery.com
END:VEVENT
END:VCALENDAR