BEGIN:VCALENDAR
VERSION:2.0
PRODID:-//Carriage Factory Art Gallery - ECPv6.15.20//NONSGML v1.0//EN
CALSCALE:GREGORIAN
METHOD:PUBLISH
X-ORIGINAL-URL:https://carriagefactoryartgallery.com
X-WR-CALDESC:Events for Carriage Factory Art Gallery
REFRESH-INTERVAL;VALUE=DURATION:PT1H
X-Robots-Tag:noindex
X-PUBLISHED-TTL:PT1H
BEGIN:VTIMEZONE
TZID:America/Chicago
BEGIN:DAYLIGHT
TZOFFSETFROM:-0600
TZOFFSETTO:-0500
TZNAME:CDT
DTSTART:20210314T080000
END:DAYLIGHT
BEGIN:STANDARD
TZOFFSETFROM:-0500
TZOFFSETTO:-0600
TZNAME:CST
DTSTART:20211107T070000
END:STANDARD
BEGIN:DAYLIGHT
TZOFFSETFROM:-0600
TZOFFSETTO:-0500
TZNAME:CDT
DTSTART:20220313T080000
END:DAYLIGHT
BEGIN:STANDARD
TZOFFSETFROM:-0500
TZOFFSETTO:-0600
TZNAME:CST
DTSTART:20221106T070000
END:STANDARD
BEGIN:DAYLIGHT
TZOFFSETFROM:-0600
TZOFFSETTO:-0500
TZNAME:CDT
DTSTART:20230312T080000
END:DAYLIGHT
BEGIN:STANDARD
TZOFFSETFROM:-0500
TZOFFSETTO:-0600
TZNAME:CST
DTSTART:20231105T070000
END:STANDARD
END:VTIMEZONE
BEGIN:VEVENT
DTSTART;VALUE=DATE:20220723
DTEND;VALUE=DATE:20220910
DTSTAMP:20260419T152354
CREATED:20220628T183157Z
LAST-MODIFIED:20220726T171225Z
UID:5005-1658534400-1662767999@carriagefactoryartgallery.com
SUMMARY:Living Art In Color: Kansas Art Guild
DESCRIPTION:Opening Reception Saturday\, July 23\, 6-8pm  \nOn exhibit and for sale through September 9th \nKansas Art Guild 
URL:https://carriagefactoryartgallery.com/event/living-art-in-color-kansas-art-guild/
LOCATION:Carriage Factory Art Gallery\, 128 E. 6th Street\, Newton\, KS\, 67114\, United States
CATEGORIES:Reception
ATTACH;FMTTYPE=image/jpeg:https://carriagefactoryartgallery.com/wp-content/uploads/2022/06/CFAG-KAG-POSTER-7-2022-scaled.jpg
ORGANIZER;CN="Carriage Factory Art Gallery":MAILTO:director@carriagefactoryartgallery.com
END:VEVENT
END:VCALENDAR