BEGIN:VCALENDAR
VERSION:2.0
PRODID:-//Carriage Factory Art Gallery - ECPv6.15.20//NONSGML v1.0//EN
CALSCALE:GREGORIAN
METHOD:PUBLISH
X-WR-CALNAME:Carriage Factory Art Gallery
X-ORIGINAL-URL:https://carriagefactoryartgallery.com
X-WR-CALDESC:Events for Carriage Factory Art Gallery
REFRESH-INTERVAL;VALUE=DURATION:PT1H
X-Robots-Tag:noindex
X-PUBLISHED-TTL:PT1H
BEGIN:VTIMEZONE
TZID:America/Chicago
BEGIN:DAYLIGHT
TZOFFSETFROM:-0600
TZOFFSETTO:-0500
TZNAME:CDT
DTSTART:20200308T080000
END:DAYLIGHT
BEGIN:STANDARD
TZOFFSETFROM:-0500
TZOFFSETTO:-0600
TZNAME:CST
DTSTART:20201101T070000
END:STANDARD
BEGIN:DAYLIGHT
TZOFFSETFROM:-0600
TZOFFSETTO:-0500
TZNAME:CDT
DTSTART:20210314T080000
END:DAYLIGHT
BEGIN:STANDARD
TZOFFSETFROM:-0500
TZOFFSETTO:-0600
TZNAME:CST
DTSTART:20211107T070000
END:STANDARD
BEGIN:DAYLIGHT
TZOFFSETFROM:-0600
TZOFFSETTO:-0500
TZNAME:CDT
DTSTART:20220313T080000
END:DAYLIGHT
BEGIN:STANDARD
TZOFFSETFROM:-0500
TZOFFSETTO:-0600
TZNAME:CST
DTSTART:20221106T070000
END:STANDARD
END:VTIMEZONE
BEGIN:VEVENT
DTSTART;TZID=America/Chicago:20210528T180000
DTEND;TZID=America/Chicago:20210528T200000
DTSTAMP:20260420T202721
CREATED:20210518T173658Z
LAST-MODIFIED:20210518T181850Z
UID:4374-1622224800-1622232000@carriagefactoryartgallery.com
SUMMARY:Opening Meet and Greet receptions for Environmental Exposure Glen Ediger
DESCRIPTION:Ediger brings Environmental Exposure to Carriage Factory Art Gallery \nGlen Ediger has gone by many monikers in his career – inventor\, designer\, author\, car enthusiast and now artist. \nEdiger’s latest creative venture has been a cooperative effort with Mother Nature. Ediger takes different types of metals and masks them with different natural elements or other metal shapes\, sets them outside to be exposed to the elements and lets nature take its course. Some pieces are left outside for just a few weeks and others for over a year. The results are stunning and as varied as the weather in Kansas. \nEdiger first got the idea when he saw a rusting car that had patterns left on the metal from rusting cans and thought “Could this be art?” \nEdiger’s philosophy about his environmental art is “Everything we do leaves an impression. Our actions\, whether intended or not\, create an effect on our environment and on our relationships. My art-form is an expression of that effect\, it intends to ‘expose’ both literally and figuratively the effects of our actions\, by creating a patina\, with rust and decay on to the medium\, literally creating the art on the exposed material.” \nLandscapes are the focus of much of Ediger’s work but through experimentation using different metals\, where he places the pieces to be exposed – close to a tree\, in direct sun\, etc. – and how long the piece is exposed\, he is able to achieve a variety of effects. \n“Sometimes\, the hardest thing is deciding when to bring the piece in\,” Ediger said. \nOnce he brings a piece in from the exposed elements\, he cleans it by using compressed air to remove any debris\, seals the metal and then mounts\, mats and frames the pieces using reclaimed lumber. \nForty of Ediger’s metalwork pieces are part of his upcoming show “Environmental Exposure” at Carriage Factory Art Gallery May 29-July 16. The show will kick off with three meet and greet events at the gallery – 6-8 p.m. Friday May 28\, 6-8 p.m. Saturday\, May 29 and 1-3 p.m. Sunday\, May 30. \nMore information about the show can be seen at carriagefactorygallery.com\, including a video of Ediger discussing his process and a visual catalog for the show.
URL:https://carriagefactoryartgallery.com/event/opening-meet-and-greet-environmental-exposure-glen-ediger/
LOCATION:KS
CATEGORIES:Reception
ATTACH;FMTTYPE=image/jpeg:https://carriagefactoryartgallery.com/wp-content/uploads/2021/05/Transcend-Portfolio-scaled.jpg
END:VEVENT
END:VCALENDAR