BEGIN:VCALENDAR
VERSION:2.0
PRODID:-//Carriage Factory Art Gallery - ECPv6.15.20//NONSGML v1.0//EN
CALSCALE:GREGORIAN
METHOD:PUBLISH
X-WR-CALNAME:Carriage Factory Art Gallery
X-ORIGINAL-URL:https://carriagefactoryartgallery.com
X-WR-CALDESC:Events for Carriage Factory Art Gallery
REFRESH-INTERVAL;VALUE=DURATION:PT1H
X-Robots-Tag:noindex
X-PUBLISHED-TTL:PT1H
BEGIN:VTIMEZONE
TZID:America/Chicago
BEGIN:DAYLIGHT
TZOFFSETFROM:-0600
TZOFFSETTO:-0500
TZNAME:CDT
DTSTART:20240310T080000
END:DAYLIGHT
BEGIN:STANDARD
TZOFFSETFROM:-0500
TZOFFSETTO:-0600
TZNAME:CST
DTSTART:20241103T070000
END:STANDARD
BEGIN:DAYLIGHT
TZOFFSETFROM:-0600
TZOFFSETTO:-0500
TZNAME:CDT
DTSTART:20250309T080000
END:DAYLIGHT
BEGIN:STANDARD
TZOFFSETFROM:-0500
TZOFFSETTO:-0600
TZNAME:CST
DTSTART:20251102T070000
END:STANDARD
BEGIN:DAYLIGHT
TZOFFSETFROM:-0600
TZOFFSETTO:-0500
TZNAME:CDT
DTSTART:20260308T080000
END:DAYLIGHT
BEGIN:STANDARD
TZOFFSETFROM:-0500
TZOFFSETTO:-0600
TZNAME:CST
DTSTART:20261101T070000
END:STANDARD
END:VTIMEZONE
BEGIN:VEVENT
DTSTART;TZID=America/Chicago:20251115T093000
DTEND;TZID=America/Chicago:20251115T123000
DTSTAMP:20260421T113916
CREATED:20250904T182704Z
LAST-MODIFIED:20251010T181323Z
UID:6861-1763199000-1763209800@carriagefactoryartgallery.com
SUMMARY:Season's Greetings Watercolor Workshop with Susan Bartel
DESCRIPTION:Saturday\, November 15\, 9:30 AM – 12:30 PM. Join artist Susan Bartel and create vibrant watercolor paintings using a limited palette and different painting techniques. Take home 3 seasonal greeting cards with envelopes\, the painting palette for further watercolor explorations\, and plans for a 4th card\, along with handouts and instructions. Suitable for all skill levels. $45 includes all supplies. \nRegister by November 8* on our webpage or by calling or stopping by the gallery. \nNo refunds after registration deadline or if class size minimum is not met. \nThis class is full.
URL:https://carriagefactoryartgallery.com/event/seasons-greetings-watercolor-workshop-with-susan-bartel/
LOCATION:Carriage Factory Art Gallery\, 128 E. 6th Street\, Newton\, KS\, 67114\, United States
CATEGORIES:Class
ATTACH;FMTTYPE=image/jpeg:https://carriagefactoryartgallery.com/wp-content/uploads/2025/09/Susan-Bartel-November-2025.jpg
ORGANIZER;CN="Carriage Factory Art Gallery":MAILTO:director@carriagefactoryartgallery.com
END:VEVENT
END:VCALENDAR