BEGIN:VCALENDAR
VERSION:2.0
PRODID:-//Carriage Factory Art Gallery - ECPv6.15.20//NONSGML v1.0//EN
CALSCALE:GREGORIAN
METHOD:PUBLISH
X-WR-CALNAME:Carriage Factory Art Gallery
X-ORIGINAL-URL:https://carriagefactoryartgallery.com
X-WR-CALDESC:Events for Carriage Factory Art Gallery
REFRESH-INTERVAL;VALUE=DURATION:PT1H
X-Robots-Tag:noindex
X-PUBLISHED-TTL:PT1H
BEGIN:VTIMEZONE
TZID:America/Chicago
BEGIN:DAYLIGHT
TZOFFSETFROM:-0600
TZOFFSETTO:-0500
TZNAME:CDT
DTSTART:20240310T080000
END:DAYLIGHT
BEGIN:STANDARD
TZOFFSETFROM:-0500
TZOFFSETTO:-0600
TZNAME:CST
DTSTART:20241103T070000
END:STANDARD
BEGIN:DAYLIGHT
TZOFFSETFROM:-0600
TZOFFSETTO:-0500
TZNAME:CDT
DTSTART:20250309T080000
END:DAYLIGHT
BEGIN:STANDARD
TZOFFSETFROM:-0500
TZOFFSETTO:-0600
TZNAME:CST
DTSTART:20251102T070000
END:STANDARD
BEGIN:DAYLIGHT
TZOFFSETFROM:-0600
TZOFFSETTO:-0500
TZNAME:CDT
DTSTART:20260308T080000
END:DAYLIGHT
BEGIN:STANDARD
TZOFFSETFROM:-0500
TZOFFSETTO:-0600
TZNAME:CST
DTSTART:20261101T070000
END:STANDARD
END:VTIMEZONE
BEGIN:VEVENT
DTSTART;TZID=America/Chicago:20251101T130000
DTEND;TZID=America/Chicago:20251101T160000
DTSTAMP:20260421T113855
CREATED:20250815T203956Z
LAST-MODIFIED:20251010T180759Z
UID:6801-1762002000-1762012800@carriagefactoryartgallery.com
SUMMARY:Mini Mosaic Lamps with Mary Lee-McDonald
DESCRIPTION:Saturday\, November 1\, 1-4 PM and Sunday\, November 2\, 1-2:30. Day 1 will be creating and Day 2 will be grouting. Join artist Mary Lee-McDonald to craft a beautiful mini mosaic lamp\, playing with color and light to create your own unique design. All supplies included\, no previous experience needed. $60 per student. Register by Saturday October 25* on our website or by calling or stopping by the gallery. \n*no refunds after registration deadline unless class size minimum is not met. \nThis class is full. \n 
URL:https://carriagefactoryartgallery.com/event/mini-mosaic-lamps-with-mary-lee-mcdonald/
LOCATION:Carriage Factory Art Gallery\, 128 E. 6th Street\, Newton\, KS\, 67114\, United States
CATEGORIES:Class
ATTACH;FMTTYPE=image/jpeg:https://carriagefactoryartgallery.com/wp-content/uploads/2025/08/Mary-Lee-McDonald-Class-November-2025.jpg
ORGANIZER;CN="Carriage Factory Art Gallery":MAILTO:director@carriagefactoryartgallery.com
END:VEVENT
END:VCALENDAR