BEGIN:VCALENDAR
VERSION:2.0
PRODID:-//Carriage Factory Art Gallery - ECPv6.15.20//NONSGML v1.0//EN
CALSCALE:GREGORIAN
METHOD:PUBLISH
X-WR-CALNAME:Carriage Factory Art Gallery
X-ORIGINAL-URL:https://carriagefactoryartgallery.com
X-WR-CALDESC:Events for Carriage Factory Art Gallery
REFRESH-INTERVAL;VALUE=DURATION:PT1H
X-Robots-Tag:noindex
X-PUBLISHED-TTL:PT1H
BEGIN:VTIMEZONE
TZID:America/Chicago
BEGIN:DAYLIGHT
TZOFFSETFROM:-0600
TZOFFSETTO:-0500
TZNAME:CDT
DTSTART:20210314T080000
END:DAYLIGHT
BEGIN:STANDARD
TZOFFSETFROM:-0500
TZOFFSETTO:-0600
TZNAME:CST
DTSTART:20211107T070000
END:STANDARD
BEGIN:DAYLIGHT
TZOFFSETFROM:-0600
TZOFFSETTO:-0500
TZNAME:CDT
DTSTART:20220313T080000
END:DAYLIGHT
BEGIN:STANDARD
TZOFFSETFROM:-0500
TZOFFSETTO:-0600
TZNAME:CST
DTSTART:20221106T070000
END:STANDARD
BEGIN:DAYLIGHT
TZOFFSETFROM:-0600
TZOFFSETTO:-0500
TZNAME:CDT
DTSTART:20230312T080000
END:DAYLIGHT
BEGIN:STANDARD
TZOFFSETFROM:-0500
TZOFFSETTO:-0600
TZNAME:CST
DTSTART:20231105T070000
END:STANDARD
END:VTIMEZONE
BEGIN:VEVENT
DTSTART;TZID=America/Chicago:20220924T100000
DTEND;TZID=America/Chicago:20220924T150000
DTSTAMP:20260421T213611
CREATED:20220623T202011Z
LAST-MODIFIED:20220908T153531Z
UID:4997-1664013600-1664031600@carriagefactoryartgallery.com
SUMMARY:Carriage Factory Art Market & Kid Art Carnival
DESCRIPTION:Bring the whole family to a fun afternoon of art. There will be fun art activities for the kiddos and an art market with art vendors set up to sell their art. Come stop by. September 24\, 2022 10-3 art market 10-3 carnival  \nCLICK HERE FOR APPLICATION \n  \n 
URL:https://carriagefactoryartgallery.com/event/carriage-factory-art-market-kid-art-carnival/
LOCATION:Carriage Factory Art Gallery\, 128 E. 6th Street\, Newton\, KS\, 67114\, United States
CATEGORIES:Art Market
ATTACH;FMTTYPE=image/jpeg:https://carriagefactoryartgallery.com/wp-content/uploads/2022/06/CFG-Art-Market.jpg
ORGANIZER;CN="Carriage Factory Art Gallery":MAILTO:director@carriagefactoryartgallery.com
END:VEVENT
END:VCALENDAR